BEGIN:VCALENDAR
VERSION:2.0
PRODID:-//Native Village of Eyak - ECPv6.15.12.2//NONSGML v1.0//EN
CALSCALE:GREGORIAN
METHOD:PUBLISH
X-WR-CALNAME:Native Village of Eyak
X-ORIGINAL-URL:https://www.eyak-nsn.gov
X-WR-CALDESC:Events for Native Village of Eyak
REFRESH-INTERVAL;VALUE=DURATION:PT1H
X-Robots-Tag:noindex
X-PUBLISHED-TTL:PT1H
BEGIN:VTIMEZONE
TZID:America/Anchorage
BEGIN:DAYLIGHT
TZOFFSETFROM:-0900
TZOFFSETTO:-0800
TZNAME:AKDT
DTSTART:20250309T110000
END:DAYLIGHT
BEGIN:STANDARD
TZOFFSETFROM:-0800
TZOFFSETTO:-0900
TZNAME:AKST
DTSTART:20251102T100000
END:STANDARD
BEGIN:DAYLIGHT
TZOFFSETFROM:-0900
TZOFFSETTO:-0800
TZNAME:AKDT
DTSTART:20260308T110000
END:DAYLIGHT
BEGIN:STANDARD
TZOFFSETFROM:-0800
TZOFFSETTO:-0900
TZNAME:AKST
DTSTART:20261101T100000
END:STANDARD
BEGIN:DAYLIGHT
TZOFFSETFROM:-0900
TZOFFSETTO:-0800
TZNAME:AKDT
DTSTART:20270314T110000
END:DAYLIGHT
BEGIN:STANDARD
TZOFFSETFROM:-0800
TZOFFSETTO:-0900
TZNAME:AKST
DTSTART:20271107T100000
END:STANDARD
END:VTIMEZONE
BEGIN:VEVENT
DTSTART;TZID=America/Anchorage:20260501T080000
DTEND;TZID=America/Anchorage:20260501T100000
DTSTAMP:20260424T015910
CREATED:20251208T220513Z
LAST-MODIFIED:20251229T220124Z
UID:10005546-1777622400-1777629600@www.eyak-nsn.gov
SUMMARY:Tribal Member Men's Breakfast
DESCRIPTION:Join us at Tribal Family Services for Tribal Member Men’s Breakfast \nEvery Friday morning 8:00am-10:00am
URL:https://www.eyak-nsn.gov/event/tribal-member-mens-breakfast/2026-05-01/
LOCATION:AK
CATEGORIES:TFS - Non Clinical Social Worker/Case Management,Tribal & Family Services Department
END:VEVENT
BEGIN:VEVENT
DTSTART;TZID=America/Anchorage:20260501T120000
DTEND;TZID=America/Anchorage:20260501T150000
DTSTAMP:20260424T015910
CREATED:20260318T215451Z
LAST-MODIFIED:20260318T224302Z
UID:10008314-1777636800-1777647600@www.eyak-nsn.gov
SUMMARY:TYC Regalia at TFS
DESCRIPTION:
URL:https://www.eyak-nsn.gov/event/tyc-regalia-at-tfs/2026-05-01/
LOCATION:Tribal Family Services\, 622 2nd St\, Cordova\, AK\, 99574
CATEGORIES:TFS - Family and Youth Programming
END:VEVENT
BEGIN:VEVENT
DTSTART;VALUE=DATE:20260504
DTEND;VALUE=DATE:20260509
DTSTAMP:20260424T015910
CREATED:20260318T214407Z
LAST-MODIFIED:20260318T214407Z
UID:10007986-1777852800-1778284799@www.eyak-nsn.gov
SUMMARY:Tatitlek Cultural Heritage Week
DESCRIPTION:The Peksulineq Festival is an annual event hosted by the Native Village of Tatitlek that celebrates the traditional culture of the Chugach Region. Students grades K-12 attend the festival to learn about Chugach Alutiiq arts\, language\, culture and dance.
URL:https://www.eyak-nsn.gov/event/tatitlek-cultural-heritage-week/
LOCATION:Tatitlek
CATEGORIES:TFS - Family and Youth Programming
END:VEVENT
BEGIN:VEVENT
DTSTART;TZID=America/Anchorage:20260505T130000
DTEND;TZID=America/Anchorage:20260505T150000
DTSTAMP:20260424T015910
CREATED:20240424T193406Z
LAST-MODIFIED:20240514T203630Z
UID:10004271-1777986000-1777993200@www.eyak-nsn.gov
SUMMARY:Sewing Circle
DESCRIPTION:A crafting time for elders.
URL:https://www.eyak-nsn.gov/event/sewing-circle/2026-05-05/
LOCATION:AK
CATEGORIES:TFS - Elder Services,Tribal & Family Services Department
END:VEVENT
BEGIN:VEVENT
DTSTART;TZID=America/Anchorage:20260505T171500
DTEND;TZID=America/Anchorage:20260505T181500
DTSTAMP:20260424T015910
CREATED:20251229T230725Z
LAST-MODIFIED:20260408T190346Z
UID:10008691-1778001300-1778004900@www.eyak-nsn.gov
SUMMARY:Staying Quit
DESCRIPTION:Relapse Prevention Support Group
URL:https://www.eyak-nsn.gov/event/staying-quit-support-group/2026-05-05/
LOCATION:Tribal Family Services\, 622 2nd St\, Cordova\, AK\, 99574
CATEGORIES:Community Events,TFS - Non Clinical Social Worker/Case Management
END:VEVENT
BEGIN:VEVENT
DTSTART;TZID=America/Anchorage:20260506T080000
DTEND;TZID=America/Anchorage:20260506T170000
DTSTAMP:20260424T015910
CREATED:20251229T230942Z
LAST-MODIFIED:20251229T233734Z
UID:10007148-1778054400-1778086800@www.eyak-nsn.gov
SUMMARY:Elder Med & Mail Delivery
DESCRIPTION:
URL:https://www.eyak-nsn.gov/event/elder-med-mail-delivery/2026-05-06/
LOCATION:AK
CATEGORIES:TFS - Elder Services
END:VEVENT
BEGIN:VEVENT
DTSTART;TZID=America/Anchorage:20260507T130000
DTEND;TZID=America/Anchorage:20260507T150000
DTSTAMP:20260424T015910
CREATED:20251229T231114Z
LAST-MODIFIED:20251230T000659Z
UID:10006888-1778158800-1778166000@www.eyak-nsn.gov
SUMMARY:Elder Rides
DESCRIPTION:
URL:https://www.eyak-nsn.gov/event/elder-rides/2026-05-07/
LOCATION:AK
CATEGORIES:TFS - Elder Services,Tribal & Family Services Department
END:VEVENT
BEGIN:VEVENT
DTSTART;TZID=America/Anchorage:20260508T080000
DTEND;TZID=America/Anchorage:20260508T100000
DTSTAMP:20260424T015910
CREATED:20251208T220513Z
LAST-MODIFIED:20251229T220124Z
UID:10005547-1778227200-1778234400@www.eyak-nsn.gov
SUMMARY:Tribal Member Men's Breakfast
DESCRIPTION:Join us at Tribal Family Services for Tribal Member Men’s Breakfast \nEvery Friday morning 8:00am-10:00am
URL:https://www.eyak-nsn.gov/event/tribal-member-mens-breakfast/2026-05-08/
LOCATION:AK
CATEGORIES:TFS - Non Clinical Social Worker/Case Management,Tribal & Family Services Department
END:VEVENT
BEGIN:VEVENT
DTSTART;TZID=America/Anchorage:20260508T120000
DTEND;TZID=America/Anchorage:20260508T150000
DTSTAMP:20260424T015910
CREATED:20260318T215451Z
LAST-MODIFIED:20260318T224302Z
UID:10008315-1778241600-1778252400@www.eyak-nsn.gov
SUMMARY:TYC Regalia at TFS
DESCRIPTION:
URL:https://www.eyak-nsn.gov/event/tyc-regalia-at-tfs/2026-05-08/
LOCATION:Tribal Family Services\, 622 2nd St\, Cordova\, AK\, 99574
CATEGORIES:TFS - Family and Youth Programming
END:VEVENT
BEGIN:VEVENT
DTSTART;TZID=America/Anchorage:20260508T120000
DTEND;TZID=America/Anchorage:20260508T150000
DTSTAMP:20260424T015910
CREATED:20260318T225343Z
LAST-MODIFIED:20260318T225343Z
UID:10008577-1778241600-1778252400@www.eyak-nsn.gov
SUMMARY:Tribal Youth Council Graduation Party
DESCRIPTION:
URL:https://www.eyak-nsn.gov/event/tribal-youth-council-graduation-party/
LOCATION:Tribal Family Services\, 622 2nd St\, Cordova\, AK\, 99574
CATEGORIES:TFS - Family and Youth Programming
END:VEVENT
BEGIN:VEVENT
DTSTART;TZID=America/Anchorage:20260512T130000
DTEND;TZID=America/Anchorage:20260512T150000
DTSTAMP:20260424T015910
CREATED:20240424T193406Z
LAST-MODIFIED:20240514T203630Z
UID:10004272-1778590800-1778598000@www.eyak-nsn.gov
SUMMARY:Sewing Circle
DESCRIPTION:A crafting time for elders.
URL:https://www.eyak-nsn.gov/event/sewing-circle/2026-05-12/
LOCATION:AK
CATEGORIES:TFS - Elder Services,Tribal & Family Services Department
END:VEVENT
BEGIN:VEVENT
DTSTART;TZID=America/Anchorage:20260512T171500
DTEND;TZID=America/Anchorage:20260512T181500
DTSTAMP:20260424T015910
CREATED:20251229T230725Z
LAST-MODIFIED:20260408T190346Z
UID:10008692-1778606100-1778609700@www.eyak-nsn.gov
SUMMARY:Staying Quit
DESCRIPTION:Relapse Prevention Support Group
URL:https://www.eyak-nsn.gov/event/staying-quit-support-group/2026-05-12/
LOCATION:Tribal Family Services\, 622 2nd St\, Cordova\, AK\, 99574
CATEGORIES:Community Events,TFS - Non Clinical Social Worker/Case Management
END:VEVENT
BEGIN:VEVENT
DTSTART;TZID=America/Anchorage:20260513T080000
DTEND;TZID=America/Anchorage:20260513T170000
DTSTAMP:20260424T015910
CREATED:20251229T230942Z
LAST-MODIFIED:20251229T233734Z
UID:10007149-1778659200-1778691600@www.eyak-nsn.gov
SUMMARY:Elder Med & Mail Delivery
DESCRIPTION:
URL:https://www.eyak-nsn.gov/event/elder-med-mail-delivery/2026-05-13/
LOCATION:AK
CATEGORIES:TFS - Elder Services
END:VEVENT
BEGIN:VEVENT
DTSTART;TZID=America/Anchorage:20260514T130000
DTEND;TZID=America/Anchorage:20260514T150000
DTSTAMP:20260424T015910
CREATED:20251229T231114Z
LAST-MODIFIED:20251230T000659Z
UID:10006889-1778763600-1778770800@www.eyak-nsn.gov
SUMMARY:Elder Rides
DESCRIPTION:
URL:https://www.eyak-nsn.gov/event/elder-rides/2026-05-14/
LOCATION:AK
CATEGORIES:TFS - Elder Services,Tribal & Family Services Department
END:VEVENT
BEGIN:VEVENT
DTSTART;TZID=America/Anchorage:20260515T080000
DTEND;TZID=America/Anchorage:20260515T100000
DTSTAMP:20260424T015910
CREATED:20251208T220513Z
LAST-MODIFIED:20251229T220124Z
UID:10005548-1778832000-1778839200@www.eyak-nsn.gov
SUMMARY:Tribal Member Men's Breakfast
DESCRIPTION:Join us at Tribal Family Services for Tribal Member Men’s Breakfast \nEvery Friday morning 8:00am-10:00am
URL:https://www.eyak-nsn.gov/event/tribal-member-mens-breakfast/2026-05-15/
LOCATION:AK
CATEGORIES:TFS - Non Clinical Social Worker/Case Management,Tribal & Family Services Department
END:VEVENT
BEGIN:VEVENT
DTSTART;TZID=America/Anchorage:20260515T120000
DTEND;TZID=America/Anchorage:20260515T150000
DTSTAMP:20260424T015910
CREATED:20260318T215451Z
LAST-MODIFIED:20260318T224302Z
UID:10008316-1778846400-1778857200@www.eyak-nsn.gov
SUMMARY:TYC Regalia at TFS
DESCRIPTION:
URL:https://www.eyak-nsn.gov/event/tyc-regalia-at-tfs/2026-05-15/
LOCATION:Tribal Family Services\, 622 2nd St\, Cordova\, AK\, 99574
CATEGORIES:TFS - Family and Youth Programming
END:VEVENT
BEGIN:VEVENT
DTSTART;TZID=America/Anchorage:20260519T130000
DTEND;TZID=America/Anchorage:20260519T150000
DTSTAMP:20260424T015910
CREATED:20240424T193406Z
LAST-MODIFIED:20240514T203630Z
UID:10004273-1779195600-1779202800@www.eyak-nsn.gov
SUMMARY:Sewing Circle
DESCRIPTION:A crafting time for elders.
URL:https://www.eyak-nsn.gov/event/sewing-circle/2026-05-19/
LOCATION:AK
CATEGORIES:TFS - Elder Services,Tribal & Family Services Department
END:VEVENT
BEGIN:VEVENT
DTSTART;TZID=America/Anchorage:20260519T171500
DTEND;TZID=America/Anchorage:20260519T181500
DTSTAMP:20260424T015910
CREATED:20251229T230725Z
LAST-MODIFIED:20260408T190346Z
UID:10008693-1779210900-1779214500@www.eyak-nsn.gov
SUMMARY:Staying Quit
DESCRIPTION:Relapse Prevention Support Group
URL:https://www.eyak-nsn.gov/event/staying-quit-support-group/2026-05-19/
LOCATION:Tribal Family Services\, 622 2nd St\, Cordova\, AK\, 99574
CATEGORIES:Community Events,TFS - Non Clinical Social Worker/Case Management
END:VEVENT
BEGIN:VEVENT
DTSTART;TZID=America/Anchorage:20260520T080000
DTEND;TZID=America/Anchorage:20260520T170000
DTSTAMP:20260424T015910
CREATED:20251229T230942Z
LAST-MODIFIED:20251229T233734Z
UID:10007150-1779264000-1779296400@www.eyak-nsn.gov
SUMMARY:Elder Med & Mail Delivery
DESCRIPTION:
URL:https://www.eyak-nsn.gov/event/elder-med-mail-delivery/2026-05-20/
LOCATION:AK
CATEGORIES:TFS - Elder Services
END:VEVENT
BEGIN:VEVENT
DTSTART;TZID=America/Anchorage:20260521T120000
DTEND;TZID=America/Anchorage:20260521T140000
DTSTAMP:20260424T015910
CREATED:20260203T212652Z
LAST-MODIFIED:20260203T212925Z
UID:10005850-1779364800-1779372000@www.eyak-nsn.gov
SUMMARY:Elder Mug-up
DESCRIPTION:Join TFS Staff and your fellow Elders for our monthly Mug-up \n*Elder only event* \n  \nCall or email Jackie for questions \njackie.ladd@eyak-nsn.gov \n907-424-2230
URL:https://www.eyak-nsn.gov/event/elder-mug-up-2-2/2026-05-21/
LOCATION:AK
CATEGORIES:TFS - Elder Services,Tribal & Family Services Department
END:VEVENT
BEGIN:VEVENT
DTSTART;TZID=America/Anchorage:20260521T130000
DTEND;TZID=America/Anchorage:20260521T150000
DTSTAMP:20260424T015910
CREATED:20251229T231114Z
LAST-MODIFIED:20251230T000659Z
UID:10006890-1779368400-1779375600@www.eyak-nsn.gov
SUMMARY:Elder Rides
DESCRIPTION:
URL:https://www.eyak-nsn.gov/event/elder-rides/2026-05-21/
LOCATION:AK
CATEGORIES:TFS - Elder Services,Tribal & Family Services Department
END:VEVENT
BEGIN:VEVENT
DTSTART;TZID=America/Anchorage:20260522T080000
DTEND;TZID=America/Anchorage:20260522T100000
DTSTAMP:20260424T015910
CREATED:20251208T220513Z
LAST-MODIFIED:20251229T220124Z
UID:10005549-1779436800-1779444000@www.eyak-nsn.gov
SUMMARY:Tribal Member Men's Breakfast
DESCRIPTION:Join us at Tribal Family Services for Tribal Member Men’s Breakfast \nEvery Friday morning 8:00am-10:00am
URL:https://www.eyak-nsn.gov/event/tribal-member-mens-breakfast/2026-05-22/
LOCATION:AK
CATEGORIES:TFS - Non Clinical Social Worker/Case Management,Tribal & Family Services Department
END:VEVENT
BEGIN:VEVENT
DTSTART;TZID=America/Anchorage:20260522T120000
DTEND;TZID=America/Anchorage:20260522T150000
DTSTAMP:20260424T015910
CREATED:20260318T215451Z
LAST-MODIFIED:20260318T224302Z
UID:10008317-1779451200-1779462000@www.eyak-nsn.gov
SUMMARY:TYC Regalia at TFS
DESCRIPTION:
URL:https://www.eyak-nsn.gov/event/tyc-regalia-at-tfs/2026-05-22/
LOCATION:Tribal Family Services\, 622 2nd St\, Cordova\, AK\, 99574
CATEGORIES:TFS - Family and Youth Programming
END:VEVENT
BEGIN:VEVENT
DTSTART;TZID=America/Anchorage:20260526T130000
DTEND;TZID=America/Anchorage:20260526T150000
DTSTAMP:20260424T015910
CREATED:20240424T193406Z
LAST-MODIFIED:20240514T203630Z
UID:10004274-1779800400-1779807600@www.eyak-nsn.gov
SUMMARY:Sewing Circle
DESCRIPTION:A crafting time for elders.
URL:https://www.eyak-nsn.gov/event/sewing-circle/2026-05-26/
LOCATION:AK
CATEGORIES:TFS - Elder Services,Tribal & Family Services Department
END:VEVENT
BEGIN:VEVENT
DTSTART;TZID=America/Anchorage:20260526T171500
DTEND;TZID=America/Anchorage:20260526T181500
DTSTAMP:20260424T015910
CREATED:20260408T191322Z
LAST-MODIFIED:20260408T191322Z
UID:10008951-1779815700-1779819300@www.eyak-nsn.gov
SUMMARY:Community Care Night
DESCRIPTION:
URL:https://www.eyak-nsn.gov/event/community-care-night/2026-05-26/
LOCATION:Tribal Family Services\, 622 2nd St\, Cordova\, AK\, 99574
CATEGORIES:Community Events,TFS - Victim Advocacy and Response
END:VEVENT
BEGIN:VEVENT
DTSTART;TZID=America/Anchorage:20260527T080000
DTEND;TZID=America/Anchorage:20260527T170000
DTSTAMP:20260424T015910
CREATED:20251229T230942Z
LAST-MODIFIED:20251229T233734Z
UID:10007151-1779868800-1779901200@www.eyak-nsn.gov
SUMMARY:Elder Med & Mail Delivery
DESCRIPTION:
URL:https://www.eyak-nsn.gov/event/elder-med-mail-delivery/2026-05-27/
LOCATION:AK
CATEGORIES:TFS - Elder Services
END:VEVENT
BEGIN:VEVENT
DTSTART;TZID=America/Anchorage:20260528T130000
DTEND;TZID=America/Anchorage:20260528T150000
DTSTAMP:20260424T015910
CREATED:20251229T231114Z
LAST-MODIFIED:20251230T000659Z
UID:10006891-1779973200-1779980400@www.eyak-nsn.gov
SUMMARY:Elder Rides
DESCRIPTION:
URL:https://www.eyak-nsn.gov/event/elder-rides/2026-05-28/
LOCATION:AK
CATEGORIES:TFS - Elder Services,Tribal & Family Services Department
END:VEVENT
BEGIN:VEVENT
DTSTART;TZID=America/Anchorage:20260529T080000
DTEND;TZID=America/Anchorage:20260529T100000
DTSTAMP:20260424T015910
CREATED:20251208T220513Z
LAST-MODIFIED:20251229T220124Z
UID:10005550-1780041600-1780048800@www.eyak-nsn.gov
SUMMARY:Tribal Member Men's Breakfast
DESCRIPTION:Join us at Tribal Family Services for Tribal Member Men’s Breakfast \nEvery Friday morning 8:00am-10:00am
URL:https://www.eyak-nsn.gov/event/tribal-member-mens-breakfast/2026-05-29/
LOCATION:AK
CATEGORIES:TFS - Non Clinical Social Worker/Case Management,Tribal & Family Services Department
END:VEVENT
BEGIN:VEVENT
DTSTART;TZID=America/Anchorage:20260529T120000
DTEND;TZID=America/Anchorage:20260529T150000
DTSTAMP:20260424T015910
CREATED:20260318T215451Z
LAST-MODIFIED:20260318T224302Z
UID:10008318-1780056000-1780066800@www.eyak-nsn.gov
SUMMARY:TYC Regalia at TFS
DESCRIPTION:
URL:https://www.eyak-nsn.gov/event/tyc-regalia-at-tfs/2026-05-29/
LOCATION:Tribal Family Services\, 622 2nd St\, Cordova\, AK\, 99574
CATEGORIES:TFS - Family and Youth Programming
END:VEVENT
BEGIN:VEVENT
DTSTART;TZID=America/Anchorage:20260529T170000
DTEND;TZID=America/Anchorage:20260529T190000
DTSTAMP:20260424T015910
CREATED:20260219T183423Z
LAST-MODIFIED:20260321T003609Z
UID:10008607-1780074000-1780081200@www.eyak-nsn.gov
SUMMARY:Family Game Night at TFS
DESCRIPTION:
URL:https://www.eyak-nsn.gov/event/family-game-night-at-tfs/2026-05-29/
LOCATION:Tribal Family Services\, 622 2nd St\, Cordova\, AK\, 99574
CATEGORIES:TFS - Family and Youth Programming
END:VEVENT
END:VCALENDAR